BEGIN:VCALENDAR
VERSION:2.0
PRODID:-//ChamberMaster//Event Calendar 2.0//EN
METHOD:PUBLISH
X-PUBLISHED-TTL:P3D
REFRESH-INTERVAL:P3D
CALSCALE:GREGORIAN
BEGIN:VEVENT
DTSTART:20200803T140000Z
DTEND:20200807T180000Z
X-MICROSOFT-CDO-ALLDAYEVENT:FALSE
SUMMARY:Printmaking Camp
DESCRIPTION:Printmaking Camp Monday-Friday\, August 3-7 10:00 am-2:00 pm Ages 13 and up Erin Holscher Almazan\, Instructor $75/$68 member Decorative Arts Center of Ohio's Artist-in-Residence Erin Holscher Almazan will lead this five day workshop on linoleum relief jprintmaking. Participants will be guided through the process of planning\, drawing\, and transferring an image to a block\, and applying various cutting techniques. The students will each cut one block that can be used for printing by hand.
X-ALT-DESC;FMTTYPE=text/html:Printmaking Camp Monday-Friday\, August 3-7 10:00 am-2:00 pm Ages 13 and up Erin Holscher Almazan\, Instructor $75/$68 member Decorative Arts Center of Ohio&#39\;s Artist-in-Residence Erin Holscher Almazan will lead this five day workshop on linoleum relief jprintmaking. Participants will be guided through the process of planning\, drawing\, and transferring an image to a block\, and applying various cutting techniques. The students will each cut one block that can be used for printing by hand.
LOCATION:Wendel Center for Art Education at the Decorative Arts Center of Ohio 145 E Main St Lancaster\, Ohio 43130
UID:e.3121.462
SEQUENCE:3
DTSTAMP:20260423T071821Z
URL:https://business.lancoc.org/events/details/printmaking-camp-462
END:VEVENT

END:VCALENDAR
