BEGIN:VCALENDAR
VERSION:2.0
PRODID:-//ChamberMaster//Event Calendar 2.0//EN
METHOD:PUBLISH
X-PUBLISHED-TTL:P3D
REFRESH-INTERVAL:P3D
CALSCALE:GREGORIAN
BEGIN:VEVENT
DTSTART:20210702T210000Z
DTEND:20210702T230000Z
X-MICROSOFT-CDO-ALLDAYEVENT:FALSE
SUMMARY:Primrose's Firecracker Community BBQ
DESCRIPTION:Get ready to party like 1776 at Primrose\n\nto celebrate Independence Day!\n\n\n\nYou'll find great friends\, enjoy tasty grilled favorites\, play fun yard games and so much more at this community event open to the public!\n\n\n\nRSVP by calling Laura Arnold at (740) 653-3900.
X-ALT-DESC;FMTTYPE=text/html:Get ready to party like 1776 at Primrose<br />\nto celebrate Independence Day!<br />\n<br />\nYou&rsquo\;ll find great friends\, enjoy tasty grilled favorites\, play fun yard games and so much more at this community event open to the public!<br />\n<br />\nRSVP by calling Laura Arnold at (740) 653-3900.
LOCATION:Primrose Retirement Community 1481 Wesley Way\, Lancaster\, OH
UID:e.3121.616
SEQUENCE:3
DTSTAMP:20260422T105419Z
URL:https://business.lancoc.org/events/details/primrose-s-firecracker-community-bbq-616
END:VEVENT

END:VCALENDAR
