BEGIN:VCALENDAR
VERSION:2.0
PRODID:-//ChamberMaster//Event Calendar 2.0//EN
METHOD:PUBLISH
X-PUBLISHED-TTL:P3D
REFRESH-INTERVAL:P3D
CALSCALE:GREGORIAN
BEGIN:VEVENT
DTSTART:20210403T150000Z
DTEND:20210403T150000Z
X-MICROSOFT-CDO-ALLDAYEVENT:FALSE
SUMMARY:Primrose's Community Easter Egg Hunt
DESCRIPTION:Come join us at our outside Community Easter Egg Hunt around the beautiful grounds of Primrose. Fun for the entire family! \n Easter Egg Hunt \n\n Food & Drinks\n\n  Appearance by the Easter Bunny \n\n Masks are required HOP ON BY! \n\n \n\nCall (740) 653-3900 for more information
X-ALT-DESC;FMTTYPE=text/html:Come join us at our outside Community Easter Egg Hunt around the beautiful grounds of Primrose. Fun for the entire family!&nbsp\;\n<div>&#10146\;Easter Egg Hunt&nbsp\;</div>\n\n<div>&#10146\;Food &amp\; Drinks</div>\n\n<div>&nbsp\;&#10146\;Appearance by the Easter Bunny&nbsp\;</div>\n\n<div>&#10146\;Masks are required HOP ON BY!&nbsp\;</div>\n\n<div>&nbsp\;</div>\n\n<div>Call (740) 653-3900 for more information</div>\n
LOCATION:1481 Wesley Way Lancaster\, Ohio 43130 (740) 653-3900
UID:e.3121.503
SEQUENCE:3
DTSTAMP:20260422T162952Z
URL:https://business.lancoc.org/events/details/primrose-s-community-easter-egg-hunt-503
END:VEVENT

END:VCALENDAR
