BEGIN:VCALENDAR
VERSION:2.0
PRODID:-//ChamberMaster//Event Calendar 2.0//EN
METHOD:PUBLISH
X-PUBLISHED-TTL:P3D
REFRESH-INTERVAL:P3D
CALSCALE:GREGORIAN
BEGIN:VEVENT
DTSTART:20200313T210000Z
DTEND:20200313T233000Z
X-MICROSOFT-CDO-ALLDAYEVENT:FALSE
SUMMARY:POSTPONED!! Trains\, Planes and Automobiles and a Tribute to Federal Glass
DESCRIPTION:THIS EXHIBIT OPENING HAS BEEN POSTPONED UNTIL FURTHER NOTICE!\n\nOhio Glass Museum's opening of its newest exhibition is March 13 from 5:00 to 7:30. Plan to stop by and see how the glass industry contributed in many was to transportation and other forms of tableware. This exposition has one thinking more not only on the lovely pieces of tableware from the Depression glass era which will be displayed for Federal Glass\, but on other forms of glass used to get us down the road in all ways of transportation. A little more ephemera and displayed glass items will have you looking twice at the "Dribble Glass" and some other unusual displays we have for the viewer.
X-ALT-DESC;FMTTYPE=text/html:<br />\n<span style="font-size:16px\;"><strong>THIS EXHIBIT OPENING HAS BEEN POSTPONED UNTIL FURTHER NOTICE!</strong></span><br />\nOhio Glass Museum&rsquo\;s opening of its newest exhibition is March 13 from 5:00 to 7:30. Plan to stop by and see how the glass industry contributed in many was to transportation and other forms of tableware. This exposition has one thinking more not only on the lovely pieces of tableware from the Depression glass era which will be displayed for Federal Glass\, but on other forms of glass used to get us down the road in all ways of transportation. A little more ephemera and displayed glass items will have you looking twice at the &ldquo\;Dribble Glass&rdquo\; and some other unusual displays we have for the viewer.
LOCATION:124 W. Main Street Lancaster\, OH 43130
UID:e.3121.438
SEQUENCE:3
DTSTAMP:20260423T190830Z
URL:https://business.lancoc.org/events/details/postponed-trains-planes-and-automobiles-and-a-tribute-to-federal-glass-438
END:VEVENT

END:VCALENDAR
