BEGIN:VCALENDAR
VERSION:2.0
PRODID:-//ChamberMaster//Event Calendar 2.0//EN
METHOD:PUBLISH
X-PUBLISHED-TTL:P3D
REFRESH-INTERVAL:P3D
CALSCALE:GREGORIAN
BEGIN:VEVENT
DTSTART:20200319T200000Z
DTEND:20200319T203000Z
X-MICROSOFT-CDO-ALLDAYEVENT:FALSE
SUMMARY:POSTPONED!! Ribbon Cutting: Infinitely Outdoors/Kirkbride Land and Snow Management
DESCRIPTION:Infinitely Outdoors and Kirkbride Land and Snow Management are at a new location!  Join us for the ribbon cutting on Thursday\, March 19th.  Click HERE for more information about the open house on Saturday\, March 21st\, and to learn how to register for a free gift.
X-ALT-DESC;FMTTYPE=text/html:<span style="font-size:18px\;"><span style="color:black\;"><span style="font-family:calibri\,sans-serif\;">Infinitely Outdoors and Kirkbride Land and Snow Management are at a new location!&nbsp\; Join us for the ribbon cutting on Thursday\, March 19th.&nbsp\; Click <a href="http://www.infinitelyoutdoors.com/wp-content/uploads/2020/02/Infinitely_Outdoors_Open_House_March_21_2020.pdf"><strong>HERE</strong></a> for more information about the open house on Saturday\, March 21st\, and to learn how to register for a free gift.</span></span></span>
LOCATION:3210 Old Columbus Road NW Carroll\, Ohio
UID:e.3121.434
SEQUENCE:3
DTSTAMP:20260423T174406Z
URL:https://business.lancoc.org/events/details/postponed-ribbon-cutting-infinitely-outdoors-kirkbride-land-and-snow-management-434
END:VEVENT

END:VCALENDAR
