BEGIN:VCALENDAR
VERSION:2.0
PRODID:-//ChamberMaster//Event Calendar 2.0//EN
METHOD:PUBLISH
X-PUBLISHED-TTL:P3D
REFRESH-INTERVAL:P3D
CALSCALE:GREGORIAN
BEGIN:VEVENT
DTSTART:20191116T180000Z
DTEND:20191116T203000Z
X-MICROSOFT-CDO-ALLDAYEVENT:FALSE
SUMMARY:Pop Up Books
DESCRIPTION:Using basic sewing skills\, students will construct their own book and story with the pop up features.\n\nAges 12 - 16
X-ALT-DESC;FMTTYPE=text/html:Using basic sewing skills\, students will construct their own book and story with the pop up features.<br />\nAges 12 - 16
LOCATION:Decorative Arts Center of Ohio 145 E Main St Lancaster\, Oh 43130
UID:e.3121.332
SEQUENCE:3
DTSTAMP:20260424T023935Z
URL:https://business.lancoc.org/events/details/pop-up-books-332
END:VEVENT

END:VCALENDAR
