BEGIN:VCALENDAR
VERSION:2.0
PRODID:-//ChamberMaster//Event Calendar 2.0//EN
METHOD:PUBLISH
X-PUBLISHED-TTL:P3D
REFRESH-INTERVAL:P3D
CALSCALE:GREGORIAN
BEGIN:VEVENT
DTSTART:20210911T133000Z
DTEND:20210911T153000Z
X-MICROSOFT-CDO-ALLDAYEVENT:FALSE
SUMMARY:Pickerington Community Shred Day to Benefit Bottoms Up Diaper Drive
DESCRIPTION:Pickerington Community Shred Day\n\nFood and Clothing Drive\n\nTo Benefit Bottoms Up Diaper Drive
X-ALT-DESC;FMTTYPE=text/html:Pickerington Community Shred Day<br />\nFood and Clothing Drive<br />\nTo Benefit Bottoms Up Diaper Drive
LOCATION:Peace United Methodist Church 235 Diley Road Pickerington\, OH 43147
UID:e.3121.647
SEQUENCE:3
DTSTAMP:20260420T072644Z
URL:https://business.lancoc.org/events/details/pickerington-community-shred-day-to-benefit-bottoms-up-diaper-drive-647
END:VEVENT

END:VCALENDAR
