BEGIN:VCALENDAR
VERSION:2.0
PRODID:-//ChamberMaster//Event Calendar 2.0//EN
METHOD:PUBLISH
X-PUBLISHED-TTL:P3D
REFRESH-INTERVAL:P3D
CALSCALE:GREGORIAN
BEGIN:VEVENT
DTSTART:20211210T160000Z
DTEND:20211210T220000Z
X-MICROSOFT-CDO-ALLDAYEVENT:FALSE
SUMMARY:Performance GMC Cadillac Red Cross Blood Drive
DESCRIPTION:During this season of giving\, we are grateful to have the opportunity to serve those in need of a life-saving blood donation. We are excited to welcome you to the store and gift you a certificate for a free pint of Graeter's Ice Cream for your time\, and the Red Cross is offering a $10 Amazon digital gift card to donors who register online with a valid email address. Kick off your weekend giving a life-saving gift with the Performance GMC Cadillac family\, December 10th! Get your time slot today here: https://www.redcrossblood.org/give.html/drive-results?zipSponsor=Performance or call 1-800 -RED CROSS (1-800 -733-2767)!
X-ALT-DESC;FMTTYPE=text/html:<p>During this season of giving\, we are grateful to have the opportunity to serve those in need of a life-saving blood donation. We are excited to welcome you to the store and gift you a certificate for a free pint of Graeter&#39\;s Ice Cream for your time\, and the Red Cross is offering a $10 Amazon digital gift card to donors who register online with a valid email address. Kick off your weekend giving a life-saving gift with the Performance GMC Cadillac family\, December 10th! Get your time slot today here: <a href="https://www.redcrossblood.org/give.html/drive-results?zipSponsor=Performance">https://www.redcrossblood.org/give.html/drive-results?zipSponsor=Performance </a>or call 1-800&shy\;-RED CROSS (1-800&shy\;-733-2767)!<o:p></o:p></p>\n
LOCATION:Showroom of: Performance GMC Cadillac 3733 Claypool St.\, Carroll\, OH\, 43112
UID:e.3121.748
SEQUENCE:3
DTSTAMP:20260424T215314Z
URL:https://business.lancoc.org/events/details/performance-gmc-cadillac-red-cross-blood-drive-748
END:VEVENT

END:VCALENDAR
