BEGIN:VCALENDAR
VERSION:2.0
PRODID:-//ChamberMaster//Event Calendar 2.0//EN
METHOD:PUBLISH
X-PUBLISHED-TTL:P3D
REFRESH-INTERVAL:P3D
CALSCALE:GREGORIAN
BEGIN:VEVENT
DTSTART;VALUE=DATE:20200201
DTEND;VALUE=DATE:20200202
TRANSP:TRANSPARENT
X-MICROSOFT-CDO-ALLDAYEVENT:TRUE
SUMMARY:Pearl Yoga February Yoga Challenge
DESCRIPTION:Enter into our February Yoga Challenge and practice and/or include the "Pose of the day" into your daily yoga sequence that you teach or practice at home. Post pictures on social media and tag Pearl Yoga Studio so we can keep up with what you are doing. Come to yoga classes 4 times per week (or more) during the month of February and be entered into a prize drawing at the end of the challenge. 4 prizes will be given away including an Unlimited Monthly Yoga Pass to Pearl Yoga Studio in Lancaster\, Ohio\, A necklace designed specifically for Pearl Yoga Studio by Ava Jewelers in Lancaster\, Ohio\, An Ayurveda gift item from NU-U Salon in Lancaster\, Ohio and a Yoga Sandbag made specifically for Pearl Yoga Studio by one of our yogini's.\n\nCome join us for this month long challenge by pre-registering and getting started on February 1st.\n\nRegistration for this challenge is free of charge but you must purchase a class package or a drop in pass to practice in the studio and be eligible for the prize drawing at the end of the challenge.
X-ALT-DESC;FMTTYPE=text/html:<span style="background-color:rgb(255\, 255\, 255)\; color:rgb(0\, 0\, 0)\; font-family:verdana\,arial\,helvetica\,sans-serif\; font-size:14px">Enter into our February Yoga Challenge and practice and/or include the &quot\;Pose of the day&quot\; into your daily yoga sequence that you teach or practice at home. Post pictures on social media and tag Pearl Yoga Studio so we can keep up with what you are doing. Come to yoga classes 4 times per week (or more) during the month of February and be entered into a prize drawing at the end of the challenge. 4 prizes will be given away including an Unlimited Monthly Yoga Pass to Pearl Yoga Studio in Lancaster\, Ohio\, A necklace designed specifically for Pearl Yoga Studio by Ava Jewelers in Lancaster\, Ohio\, An Ayurveda gift item from NU-U Salon in Lancaster\, Ohio and a Yoga Sandbag made specifically for Pearl Yoga Studio by one of our yogini&#39\;s.</span><br />\n<span style="background-color:rgb(255\, 255\, 255)\; color:rgb(0\, 0\, 0)\; font-family:verdana\,arial\,helvetica\,sans-serif\; font-size:14px">Come join us for this month long challenge by pre-registering and getting started on February 1st.</span><br />\n<span style="background-color:rgb(255\, 255\, 255)\; color:rgb(0\, 0\, 0)\; font-family:verdana\,arial\,helvetica\,sans-serif\; font-size:14px">Registration for this challenge is free of charge but you must purchase a class package or a drop in pass to practice in the studio and be eligible for the prize drawing at the end of the challenge.</span>
LOCATION:Pearl Yoga and Teacher Training Studio 616 Forest Rose Ave. Lancaster\, Ohio 43130 740-785-4050 Follow us on Facebook\, Instagram and Twitter Look us up on the MindBody app on your smart phone www.yogaclassesinlancasteroh.com
UID:e.3121.414
SEQUENCE:3
DTSTAMP:20260423T211216Z
URL:https://business.lancoc.org/events/details/pearl-yoga-february-yoga-challenge-414
END:VEVENT

END:VCALENDAR
