BEGIN:VCALENDAR
VERSION:2.0
PRODID:-//ChamberMaster//Event Calendar 2.0//EN
METHOD:PUBLISH
X-PUBLISHED-TTL:P3D
REFRESH-INTERVAL:P3D
CALSCALE:GREGORIAN
BEGIN:VEVENT
DTSTART:20210517T143000Z
DTEND:20210517T220000Z
X-MICROSOFT-CDO-ALLDAYEVENT:FALSE
SUMMARY:PDHC's 1st Annual Lancaster Golf for Life Event to Rescue Lives and Impact Generations
DESCRIPTION:1ST ANNUAL LANCASTER GOLF FOR LIFE EVENT\n\n\n\nWHEN:        Monday\, May 17th\, 2021\n\nVENUE:       Lancaster Country Club\n\nTIME:           10:30 am to 6 pm\n\nFOR:            To benefit the life-saving work of Pregnancy Decision Health Centers (PDHC)
X-ALT-DESC;FMTTYPE=text/html:<u><strong>1ST ANNUAL LANCASTER GOLF FOR LIFE EVENT</strong></u><br />\n<br />\n<u><strong>WHEN:&nbsp\;&nbsp\;</strong></u>&nbsp\;&nbsp\;&nbsp\; &nbsp\; Monday\, May 17th\, 2021<br />\n<u><strong>VENUE:&nbsp\;</strong></u>&nbsp\;&nbsp\;&nbsp\;&nbsp\; &nbsp\;Lancaster Country Club<br />\n<u><strong>TIME:&nbsp\;</strong></u>&nbsp\;&nbsp\;&nbsp\;&nbsp\;&nbsp\;&nbsp\;&nbsp\;&nbsp\; &nbsp\;10:30 am to 6 pm<br />\n<u><strong>FOR:&nbsp\;</strong></u>&nbsp\;&nbsp\;&nbsp\;&nbsp\; &nbsp\; &nbsp\; &nbsp\; To benefit the life-saving work of Pregnancy Decision Health Centers (PDHC)&nbsp\;<br />\n<br />\n&nbsp\;
LOCATION:Lancaster Country Club 3100 Country Club Rd. SW Lancaster\, Oh. 43130 Website: Lancastercc.net
UID:e.3121.562
SEQUENCE:3
DTSTAMP:20260422T163718Z
URL:https://business.lancoc.org/events/details/pdhc-s-1st-annual-lancaster-golf-for-life-event-to-rescue-lives-and-impact-generations-05-17-2021-562
END:VEVENT

END:VCALENDAR
