BEGIN:VCALENDAR
VERSION:2.0
PRODID:-//ChamberMaster//Event Calendar 2.0//EN
METHOD:PUBLISH
X-PUBLISHED-TTL:P3D
REFRESH-INTERVAL:P3D
CALSCALE:GREGORIAN
BEGIN:VEVENT
DTSTART:20200329T180000Z
DTEND:20200329T200000Z
X-MICROSOFT-CDO-ALLDAYEVENT:FALSE
SUMMARY:One-Panel Cartooning : High School and Adult
DESCRIPTION:Join us for this 2-hour workshop where you'll be inspired by the work of unheralded gag cartoon master Barbara Shermund. The class will explore the basic concepts and techniques of cartooning\, then put your newfound knowledge and skills to use by making your own one-panel cartoon.
X-ALT-DESC;FMTTYPE=text/html:Join us for this 2-hour workshop where you&#39\;ll be inspired by the work of unheralded gag cartoon master Barbara Shermund. The class will explore the basic concepts and techniques of cartooning\, then put your newfound knowledge and skills to use by making your own one-panel cartoon.
LOCATION:Wendel Center for Art Education 145 E Main Street Lancaster\, Ohio 43130
UID:e.3121.403
SEQUENCE:3
DTSTAMP:20260423T185705Z
URL:https://business.lancoc.org/events/details/one-panel-cartooning-high-school-and-adult-403
END:VEVENT

END:VCALENDAR
