BEGIN:VCALENDAR
VERSION:2.0
PRODID:-//ChamberMaster//Event Calendar 2.0//EN
METHOD:PUBLISH
X-PUBLISHED-TTL:P3D
REFRESH-INTERVAL:P3D
CALSCALE:GREGORIAN
BEGIN:VEVENT
DTSTART:20210323T170000Z
DTEND:20210323T200000Z
X-MICROSOFT-CDO-ALLDAYEVENT:FALSE
SUMMARY:Ohio University-Lancaster Virtual Career Fair
DESCRIPTION:Meet with students via 30-minute group sessions or 10-minute one-on-one sessions. Interact via audio\, text\, and video-conferencing. \n\n\n\nRegister Now in Handshake Need an employer account in Handshake? Click here
X-ALT-DESC;FMTTYPE=text/html:Meet with students via 30-minute group sessions or 10-minute one-on-one sessions. Interact via audio\, text\, and video-conferencing.&nbsp\;<br />\n<br />\n<a href="https://ohio.joinhandshake.com/login">Register Now in Handshake</a> Need an employer account in Handshake? Click <a href="https://ohio.joinhandshake.com/employer_registrations/new">here&nbsp\;</a>
LOCATION:VIRTUALLY THROUGH HANDSHAKE
UID:e.3121.504
SEQUENCE:3
DTSTAMP:20260422T183210Z
URL:https://business.lancoc.org/events/details/ohio-university-lancaster-virtual-career-fair-504
END:VEVENT

END:VCALENDAR
