BEGIN:VCALENDAR
VERSION:2.0
PRODID:-//ChamberMaster//Event Calendar 2.0//EN
METHOD:PUBLISH
X-PUBLISHED-TTL:P3D
REFRESH-INTERVAL:P3D
CALSCALE:GREGORIAN
BEGIN:VEVENT
DTSTART:20211027T160000Z
DTEND:20211027T170000Z
X-MICROSOFT-CDO-ALLDAYEVENT:FALSE
SUMMARY:Ohio University Credit Union\, Stay Safe Online Webinar for Small Business
DESCRIPTION:Stay Safe Online Webinar for Small Business Owners\n\n\nSmall businesses are becoming a bigger target for cybercriminals\,\n\nso it's important that we help our business community understand\n\nwhat they can do to protect their accounts. This session will help\n\nbusiness owners learn how to:\n\n	Spot common threats\n	Protect your system from malware\n	Build strong email security habits\n\n\n\nRegister at oucu.org/seminars
X-ALT-DESC;FMTTYPE=text/html:<div style="text-align: center\;"><strong>Stay Safe Online Webinar for Small Business Owners</strong></div>\n<br />\nSmall businesses are becoming a bigger target for cybercriminals\,<br />\nso it&rsquo\;s important that we help our business community understand<br />\nwhat they can do to protect their accounts. This session will help<br />\nbusiness owners learn how to:\n<ul>\n	<li>Spot common threats</li>\n	<li>Protect your system from malware</li>\n	<li>Build strong email security habits</li>\n</ul>\n<br />\nRegister at&nbsp\;<a href="http://oucu.org/seminars">oucu.org/seminars</a>
LOCATION:Online Webinar
UID:e.3121.717
SEQUENCE:3
DTSTAMP:20260420T074915Z
URL:https://business.lancoc.org/events/details/ohio-university-credit-union-stay-safe-online-webinar-for-small-business-717
END:VEVENT

END:VCALENDAR
