BEGIN:VCALENDAR
VERSION:2.0
PRODID:-//ChamberMaster//Event Calendar 2.0//EN
METHOD:PUBLISH
X-PUBLISHED-TTL:P3D
REFRESH-INTERVAL:P3D
CALSCALE:GREGORIAN
BEGIN:VEVENT
DTSTART:20211020T230000Z
DTEND:20211021T010000Z
X-MICROSOFT-CDO-ALLDAYEVENT:FALSE
SUMMARY:Ohio's Civil War Generals
DESCRIPTION:Ed Showman is our guest speaker for the Sherman Civil War Roundtable. All are welcome. $5 admission. Sherman House Museum\, 137 E. Wheeling St. Doors open at 6:30.
X-ALT-DESC;FMTTYPE=text/html:Ed Showman is our guest speaker for the Sherman Civil War Roundtable. All are welcome. $5 admission. Sherman House Museum\, 137 E. Wheeling St. Doors open at 6:30.
LOCATION:Fairfield Community Church 860 E. Mulberry St. Lancaster\, OH
UID:e.3121.701
SEQUENCE:3
DTSTAMP:20260420T054733Z
URL:https://business.lancoc.org/events/details/ohio-s-civil-war-generals-701
END:VEVENT

END:VCALENDAR
