BEGIN:VCALENDAR
VERSION:2.0
PRODID:-//ChamberMaster//Event Calendar 2.0//EN
METHOD:PUBLISH
X-PUBLISHED-TTL:P3D
REFRESH-INTERVAL:P3D
CALSCALE:GREGORIAN
BEGIN:VEVENT
DTSTART:20190926T203000Z
DTEND:20190926T210000Z
X-MICROSOFT-CDO-ALLDAYEVENT:FALSE
SUMMARY:Ohio Psychiatric Services Ribbon Cutting
DESCRIPTION:Ohio Psychiatric Services Ribbon Cutting
X-ALT-DESC;FMTTYPE=text/html:Ohio Psychiatric Services Ribbon Cutting
LOCATION:109 N. Broad Street Suite 304 Lancaster\, Ohio 43130
UID:e.3121.343
SEQUENCE:3
DTSTAMP:20260424T030135Z
URL:https://business.lancoc.org/events/details/ohio-psychiatric-services-ribbon-cutting-343
END:VEVENT

END:VCALENDAR
