BEGIN:VCALENDAR
VERSION:2.0
PRODID:-//ChamberMaster//Event Calendar 2.0//EN
METHOD:PUBLISH
X-PUBLISHED-TTL:P3D
REFRESH-INTERVAL:P3D
CALSCALE:GREGORIAN
BEGIN:VEVENT
DTSTART;VALUE=DATE:20240808
DTEND;VALUE=DATE:20240811
TRANSP:TRANSPARENT
X-MICROSOFT-CDO-ALLDAYEVENT:TRUE
SUMMARY:Ohio Glass Museum - Wands & Wizards Weekend
DESCRIPTION:The Ohio Glass Museum will be offering a variety of magical experiences during the upcoming Wands & Wizards Weekend\, August 8\, 9\, and 10.\n\n\n\nVisitors may take classes in blown glass to create witch's balls or glow-in-the-dark paperweights. Classes in fused glass also will be available and patrons can make creations such as potion bottles\, family crests\, and mystical nightlights. The gift shop will offer one-of-a-kind items made by OGM artists.\n\n\n\nTo register for classes\, visit ohioglassmuseum.org.
X-ALT-DESC;FMTTYPE=text/html:<span style="font-family:aptos\,sans-serif\;"><span style="font-size:11.0pt\;">The Ohio Glass Museum will be offering a variety of magical experiences during the upcoming Wands &amp\; Wizards Weekend\, August 8\, 9\, and 10.<br />\n<br />\nVisitors may take classes in blown glass to create witch&rsquo\;s balls or glow-in-the-dark paperweights. Classes in fused glass also will be available and patrons can make creations such as potion bottles\, family crests\, and mystical nightlights. The gift shop will offer one-of-a-kind items made by OGM artists.<br />\n<br />\nTo register for classes\, visit <a href="http://ohioglassmuseum.org.">ohioglassmuseum.org.</a></span></span>
LOCATION:Ohio Glass Museum 124 W. Main St. Lancaster
UID:e.3121.1093
SEQUENCE:3
DTSTAMP:20260423T033500Z
URL:https://business.lancoc.org/events/details/ohio-glass-museum-wands-wizards-weekend-1093
END:VEVENT

END:VCALENDAR
