BEGIN:VCALENDAR
VERSION:2.0
PRODID:-//ChamberMaster//Event Calendar 2.0//EN
METHOD:PUBLISH
X-PUBLISHED-TTL:P3D
REFRESH-INTERVAL:P3D
CALSCALE:GREGORIAN
BEGIN:VEVENT
DTSTART:20211006T130000Z
DTEND:20211006T140000Z
X-MICROSOFT-CDO-ALLDAYEVENT:FALSE
SUMMARY:October 2021 Small Business University Fire Prevention for your Business and Home
DESCRIPTION:October 3-9\, 2021 is Fire Prevention Week. \n\nHave you prepared a fire safety checklist? \n\nLearn best fire prevention practices to help protect your customers\, family and yourself during this Small Business University.  \n\nJoin us as\n\nAndy Gleissner\n\nof\n\nCard Technologies and Services\n\ndiscusses inspections and preventions for your business\n\nand home to help keep your customers and family safe.
X-ALT-DESC;FMTTYPE=text/html:<div style="text-align: center\;"><span style="font-size:18px\;"><span style="font-family:arial\;"><b><span style="color:#FF0000\;">October 3-9\, 2021 is Fire Prevention Week.&nbsp\;</span><br />\n<span style="color:#000080\;">Have you prepared a fire safety checklist?&nbsp\;<br />\nLearn best fire prevention practices to help protect your customers\, family and yourself during this Small Business University.&nbsp\;&nbsp\;</span><br />\nJoin us as<br />\nAndy Gleissner<br />\nof<br />\nCard Technologies and Services<br />\ndiscusses inspections and preventions for your business<br />\nand home to help keep your customers and family safe.&nbsp\;</b></span></span></div>\n
LOCATION:Fairfield County Records Center Conference Room 138 W. Chestnut Street Lancaster\, Ohio 43130
UID:e.3121.696
SEQUENCE:3
DTSTAMP:20260420T074831Z
URL:https://business.lancoc.org/events/details/october-2021-small-business-university-fire-prevention-for-your-business-and-home-696
END:VEVENT

END:VCALENDAR
