BEGIN:VCALENDAR
VERSION:2.0
PRODID:-//ChamberMaster//Event Calendar 2.0//EN
METHOD:PUBLISH
X-PUBLISHED-TTL:P3D
REFRESH-INTERVAL:P3D
CALSCALE:GREGORIAN
BEGIN:VEVENT
DTSTART:20211005T210000Z
DTEND:20211005T233000Z
X-MICROSOFT-CDO-ALLDAYEVENT:FALSE
SUMMARY:Nine Actions to Take NOW to Thrive After the Storm
DESCRIPTION:If you own or run a business   do you ever find yourself asking these questions?\n\nRemember February 2020? Economic growth\, comfort\, excitement for spring and summer to arrive.\n\nThen\, March came in out of nowhere. The global event left no one untouched   whether by the virus itself\, your job\, your family\, your business\, panic\, confusion\, or anxiousness.\n\nAmidst chaos\, opportunity arises. And for certain businesses\, the past year opened up so many doors. It's time to take ACTION before your competition does.\n\nJoin ActionCOACH and Snyder & Company to learn Nine Things You Can Act on NOW. We'll open the doors at 5 p.m. with food\, drink\, and networking.\n\nYou'll learn practical tools and strategies you can immediately apply including:\n\n\n	COVID Tax Relief Opportunities to take advantage of\n	Possible upcoming tax considerations\n	How to navigate "work from home" and "hybrid" work\n	Developing and maintaining a high-growth business\n	Our Six Step Method to achieve TRUE FREEDOM as a business owner\n	How (and why) to plan ahead   maximizing the asset value of your business\n\n\nYou won't want to miss this one... food\, drink\, networking\, PLUS the $19 you spend to attend is going straight to an amazing charity. Be sure to bring your business cards. You will have the chance to network and forge a new business relationship just by attending.\n\nAnd if you own/run a B2B business\, go ahead and invite a few of your clients.  This will strengthen your relationship and as they grow their business\, that's good for you and your business!
X-ALT-DESC;FMTTYPE=text/html:<h2>If you own or run a business&hellip\; &nbsp\;do you ever find yourself asking these questions?</h2>\n\n<p>Remember February 2020? Economic growth\, comfort\, excitement for spring and summer to arrive.</p>\n\n<p>Then\, March came in out of nowhere. The global event left no one untouched &mdash\; whether by the virus itself\, your job\, your family\, your business\, panic\, confusion\, or anxiousness.</p>\n\n<p>Amidst chaos\, opportunity arises. And for certain businesses\, the past year opened up so many doors. It&rsquo\;s time to take ACTION before your competition does.</p>\n\n<p>Join ActionCOACH and Snyder &amp\; Company to learn Nine Things You Can Act on NOW. We&#39\;ll open the doors at 5 p.m. with food\, drink\, and networking.</p>\n\n<p>You&rsquo\;ll learn practical tools and strategies you can immediately apply including:</p>\n\n<ul>\n	<li>COVID Tax Relief Opportunities to take advantage of</li>\n	<li>Possible upcoming tax considerations</li>\n	<li>How to navigate &ldquo\;work from home&rdquo\; and &ldquo\;hybrid&rdquo\; work</li>\n	<li>Developing and maintaining a high-growth business</li>\n	<li>Our Six Step Method to achieve TRUE FREEDOM as a business owner</li>\n	<li>How (and why) to plan ahead &ndash\; maximizing the asset value of your business</li>\n</ul>\n\n<p>You won&#39\;t want to miss this one... food\, drink\, networking\, PLUS the $19 you spend to attend is going straight to an amazing charity. Be sure to <strong>bring your business cards</strong>. You will have the chance to network and forge a new business relationship just by attending.</p>\n\n<p>And if you own/run a&nbsp\;<strong>B2B business</strong>\, go ahead and invite a few of your clients. &nbsp\;This will strengthen your relationship and as they grow their business\, that&rsquo\;s good for you and your business!</p>\n\n<h3>&nbsp\;</h3>\n
LOCATION:The Tobin Center 8233 Howe Industrial Parkway Canal Winchester\, OH 43110
UID:e.3121.689
SEQUENCE:3
DTSTAMP:20260420T073330Z
URL:https://business.lancoc.org/events/details/nine-actions-to-take-now-to-thrive-after-the-storm-689
END:VEVENT

END:VCALENDAR
