BEGIN:VCALENDAR
VERSION:2.0
PRODID:-//ChamberMaster//Event Calendar 2.0//EN
METHOD:PUBLISH
X-PUBLISHED-TTL:P3D
REFRESH-INTERVAL:P3D
CALSCALE:GREGORIAN
BEGIN:VEVENT
DTSTART:20191019T150000Z
DTEND:20191019T163000Z
X-MICROSOFT-CDO-ALLDAYEVENT:FALSE
SUMMARY:Mini Scarecrow Workshop
DESCRIPTION:Just in time or fall and the Trail of Scarecrows\,\n\nwe are offering a workshop for you to create your very own\n\nmini scarecrow!\n\nAges: 8+
X-ALT-DESC;FMTTYPE=text/html:Just in time or fall and the Trail of Scarecrows\,<br />\nwe are offering a workshop for you to create your very own<br />\nmini scarecrow!<br />\nAges: 8+&nbsp\;
LOCATION:The Wendel Center for Art Education 145 E. Main Street Lancaster\, Ohio 43130
UID:e.3121.348
SEQUENCE:3
DTSTAMP:20260424T043048Z
URL:https://business.lancoc.org/events/details/mini-scarecrow-workshop-348
END:VEVENT

END:VCALENDAR
