BEGIN:VCALENDAR
VERSION:2.0
PRODID:-//ChamberMaster//Event Calendar 2.0//EN
METHOD:PUBLISH
X-PUBLISHED-TTL:P3D
REFRESH-INTERVAL:P3D
CALSCALE:GREGORIAN
BEGIN:VEVENT
DTSTART:20210602T220000Z
DTEND:20210602T233000Z
X-MICROSOFT-CDO-ALLDAYEVENT:FALSE
SUMMARY:Mid-Century Shopping in Downtown Lancaster\, Fairfield Heritage Association
DESCRIPTION:Lace up your walking shoes and join us for one of our First Wednesday Walking Tours. We open the series June 2 with "Mid-Century Shopping in Downtown Lancaster" as we talk about the stores in the 1950s and 60s such as Hickle's\, Betty Gay's\, S.S. Kresge\, and many more. Let us bring back happy memories for you with this stroll down West Main Street! Heritage Executive Director Tammy Drobina will be your guide. Tickets go on sale May 3 to Fairfield Heritage members and May 4 to the public. Cost will be $15 and is limited to 20 people. Call 740-654-9923 or email office@FairfieldHeritage.org.
X-ALT-DESC;FMTTYPE=text/html:Lace up your walking shoes and join us for one of our First Wednesday Walking Tours. We open the series June 2 with &ldquo\;Mid-Century Shopping in Downtown Lancaster&rdquo\; as we talk about the stores in the 1950s and 60s such as Hickle&rsquo\;s\, Betty Gay&#39\;s\, S.S. Kresge\, and many more. Let us bring back happy memories for you with this stroll down West Main Street! Heritage Executive Director Tammy Drobina will be your guide. Tickets go on sale May 3 to Fairfield Heritage members and May 4 to the public. Cost will be $15 and is limited to 20 people. Call 740-654-9923 or email office@FairfieldHeritage.org.
LOCATION:Meet at the fountain in Zane's Square\, 103 S. Broad St.
UID:e.3121.575
SEQUENCE:3
DTSTAMP:20260422T145537Z
URL:https://business.lancoc.org/events/details/mid-century-shopping-in-downtown-lancaster-fairfield-heritage-association-575
END:VEVENT

END:VCALENDAR
