BEGIN:VCALENDAR
VERSION:2.0
PRODID:-//ChamberMaster//Event Calendar 2.0//EN
METHOD:PUBLISH
X-PUBLISHED-TTL:P3D
REFRESH-INTERVAL:P3D
CALSCALE:GREGORIAN
BEGIN:VEVENT
DTSTART:20191203T210000Z
DTEND:20191203T210000Z
X-MICROSOFT-CDO-ALLDAYEVENT:FALSE
SUMMARY:Medical Spa NP Expansion Party & Ribbon Cutting
DESCRIPTION:Medical Spa NP expansion party to celebrate the growth and expansion of their office. See their newly renovated addition and enjoy amazing promotions that can only be seen at the party!
X-ALT-DESC;FMTTYPE=text/html:Medical Spa NP expansion party to celebrate the growth and expansion of their office. See their newly renovated addition and enjoy amazing promotions that can only be seen at the party!
LOCATION:2686 N. Columbus Street Lancaster\, Ohio 43130
UID:e.3121.384
SEQUENCE:3
DTSTAMP:20260423T225833Z
URL:https://business.lancoc.org/events/details/medical-spa-np-expansion-party-ribbon-cutting-384
END:VEVENT

END:VCALENDAR
