BEGIN:VCALENDAR
VERSION:2.0
PRODID:-//ChamberMaster//Event Calendar 2.0//EN
METHOD:PUBLISH
X-PUBLISHED-TTL:P3D
REFRESH-INTERVAL:P3D
CALSCALE:GREGORIAN
BEGIN:VEVENT
DTSTART;VALUE=DATE:20190923
DTEND;VALUE=DATE:20190924
TRANSP:TRANSPARENT
X-MICROSOFT-CDO-ALLDAYEVENT:TRUE
SUMMARY:Meals on Wheels: Brown Bag it for Hunger - Place order by 9-16-19
DESCRIPTION:September is Hunger Awareness Month. One is six seniors in American faces the threat of hunger or malnutrition which can lead to a spiral of increasingly unhealthy and dangerous situations. Contribute to help with this problem by ordering your brown bag lunch by Sept. 16:\n\n    Lunch Includes\n\n        Turkey\, ham and cheese sub\n\n        Potato Salad\n\n        Chips\n\n        Cookie\n\n        Apple\n\n\n\nSuggested donation is $10 per lunch.  Orders of 10 lunches or more are eligible for delivery inside the City of Lancaster.  ORDER FORM
X-ALT-DESC;FMTTYPE=text/html:September is Hunger Awareness Month. One is six seniors in American faces the threat of hunger or malnutrition which can lead to a spiral of increasingly unhealthy and dangerous situations. Contribute to help with this problem by ordering your brown bag lunch by Sept. 16:<br />\n&nbsp\;&nbsp\;&nbsp\; Lunch Includes<br />\n&nbsp\;&nbsp\;&nbsp\;&nbsp\;&nbsp\;&nbsp\;&nbsp\; Turkey\, ham and cheese sub<br />\n&nbsp\;&nbsp\;&nbsp\;&nbsp\;&nbsp\;&nbsp\;&nbsp\; Potato Salad<br />\n&nbsp\;&nbsp\;&nbsp\;&nbsp\;&nbsp\;&nbsp\;&nbsp\; Chips<br />\n&nbsp\;&nbsp\;&nbsp\;&nbsp\;&nbsp\;&nbsp\;&nbsp\; Cookie<br />\n&nbsp\;&nbsp\;&nbsp\; &nbsp\;&nbsp\;&nbsp\; Apple<br />\n<br />\nSuggested donation is $10 per lunch.&nbsp\; Orders of 10 lunches or more are eligible for delivery inside the City of Lancaster.&nbsp\; <a href="https://chambermaster.blob.core.windows.net/userfiles/UserFiles/chambers/3121/File/BrownBagLunch.png"><strong><span style="color:#339900\;"><span style="font-size:12px\;">ORDER FORM</span></span></strong></a>
LOCATION:Meals on Wheels of Fairfield County 1515 Cedar Hill Road Lancaster\, OH 43130
UID:e.3121.346
SEQUENCE:3
DTSTAMP:20260424T080557Z
URL:https://business.lancoc.org/events/details/meals-on-wheels-brown-bag-it-for-hunger-place-order-by-9-16-19-346
END:VEVENT

END:VCALENDAR
