BEGIN:VCALENDAR
VERSION:2.0
PRODID:-//ChamberMaster//Event Calendar 2.0//EN
METHOD:PUBLISH
X-PUBLISHED-TTL:P3D
REFRESH-INTERVAL:P3D
CALSCALE:GREGORIAN
BEGIN:VEVENT
DTSTART:20210716T130000Z
DTEND:20210716T200000Z
X-MICROSOFT-CDO-ALLDAYEVENT:FALSE
SUMMARY:Maywood Mission 2021 Summer Camp
DESCRIPTION:Summer means a great 10-week camp for\n\nschool-aged children\, ages 5-12.  This is\n\na time of learning\, where children can\n\ninteract with peers and have FUN! Also\,\n\nwe will continue to practice COVID\n\nguidelines/regulations during camp time.\n\nWe offer affordable rates and accept\n\nqualifying Title XX families.\n\nFor more information and to get\n\nenrolled CALL or email:\n\nMaywood Learning Center\n\n1029 S. Broad Street\n\n740-901-3027\n\nbalfman@maywoodmission.org
X-ALT-DESC;FMTTYPE=text/html:<span style="font-size:14px\;"><span style="font-family:arial\;">Summer means a great 10-week camp for<br />\nschool-aged children\, ages 5-12.&nbsp\; This is<br />\na time of learning\, where children can<br />\ninteract with peers and have FUN! Also\,<br />\nwe will continue to practice COVID<br />\nguidelines/regulations during camp time.<br />\nWe offer affordable rates and accept<br />\nqualifying Title XX families.<br />\nFor more information and to get<br />\nenrolled CALL or email:<br />\n<strong>Maywood Learning Center</strong><br />\n<strong>1029 S. Broad Street</strong><br />\n<strong>740-901-3027</strong><br />\n<strong>balfman@maywoodmission.org</strong></span></span>
LOCATION:
UID:e.3121.538
SEQUENCE:3
DTSTAMP:20260422T110047Z
URL:https://business.lancoc.org/events/details/maywood-mission-2021-summer-camp-07-16-2021-538
END:VEVENT

END:VCALENDAR
