BEGIN:VCALENDAR
VERSION:2.0
PRODID:-//ChamberMaster//Event Calendar 2.0//EN
METHOD:PUBLISH
X-PUBLISHED-TTL:P3D
REFRESH-INTERVAL:P3D
CALSCALE:GREGORIAN
BEGIN:VEVENT
DTSTART:20180621T133000Z
DTEND:20180621T160000Z
X-MICROSOFT-CDO-ALLDAYEVENT:FALSE
SUMMARY:Mayor's Bicycle Ride
DESCRIPTION:Mayor's Bicycle Ride
X-ALT-DESC;FMTTYPE=text/html:Mayor&#39\;s Bicycle Ride
LOCATION:Fairfield County Fairgrounds to Rock Mill
UID:e.3121.20
SEQUENCE:3
DTSTAMP:20260425T105331Z
URL:https://business.lancoc.org/events/details/mayor-s-bicycle-ride-20
END:VEVENT

END:VCALENDAR
