BEGIN:VCALENDAR
VERSION:2.0
PRODID:-//ChamberMaster//Event Calendar 2.0//EN
METHOD:PUBLISH
X-PUBLISHED-TTL:P3D
REFRESH-INTERVAL:P3D
CALSCALE:GREGORIAN
BEGIN:VEVENT
DTSTART:20210521T120000Z
DTEND:20210521T190000Z
X-MICROSOFT-CDO-ALLDAYEVENT:FALSE
SUMMARY:May 21st\, 2021 Annual Chamber Golf Outing
DESCRIPTION:2021 Lancaster Fairfield County Chamber Annual Golf Outing - May 21st
X-ALT-DESC;FMTTYPE=text/html:&nbsp\;2021 Lancaster Fairfield County Chamber Annual Golf Outing - May 21st
LOCATION:Valley View Golf Course 1511 George Road NE Lancaster\, OH 43130
UID:e.3121.492
SEQUENCE:3
DTSTAMP:20260425T102232Z
URL:https://business.lancoc.org/events/details/may-21st-2021-annual-chamber-golf-outing-492
END:VEVENT

END:VCALENDAR
