BEGIN:VCALENDAR
VERSION:2.0
PRODID:-//ChamberMaster//Event Calendar 2.0//EN
METHOD:PUBLISH
X-PUBLISHED-TTL:P3D
REFRESH-INTERVAL:P3D
CALSCALE:GREGORIAN
BEGIN:VEVENT
DTSTART:20210206T160000Z
DTEND:20210206T193000Z
X-MICROSOFT-CDO-ALLDAYEVENT:FALSE
SUMMARY:Matryoshka Nesting Doll Painting Workshop
DESCRIPTION:Students are invited to learn the old folk art craft of matryoshka Russian doll making. This workshop is a great opportunity for children and families to learn about Russian craft and culture\, as well as making your own one-of-a-kind set of matryoshka nesting dolls. Students are encouraged to create their own themes\, or draw inspiration from pop culture.
X-ALT-DESC;FMTTYPE=text/html:Students are invited to learn the old folk art craft of matryoshka Russian doll making. This workshop is a great opportunity for children and families to learn about Russian craft and culture\, as well as making your own one-of-a-kind set of matryoshka nesting dolls. Students are encouraged to create their own themes\, or draw inspiration from pop culture.
LOCATION:Wendel Center for Art Education 145 E Main St Lancaster\, Ohio 43130
UID:e.3121.480
SEQUENCE:3
DTSTAMP:20260423T000837Z
URL:https://business.lancoc.org/events/details/matryoshka-nesting-doll-painting-workshop-480
END:VEVENT

END:VCALENDAR
