BEGIN:VCALENDAR
VERSION:2.0
PRODID:-//ChamberMaster//Event Calendar 2.0//EN
METHOD:PUBLISH
X-PUBLISHED-TTL:P3D
REFRESH-INTERVAL:P3D
CALSCALE:GREGORIAN
BEGIN:VEVENT
DTSTART:20251204T210000Z
DTEND:20251204T213000Z
X-MICROSOFT-CDO-ALLDAYEVENT:FALSE
SUMMARY:Marvin's Room - Grand Opening Ribbon Cutting
DESCRIPTION:Marvin's Room is celebrating their Grand Opening on Thursday\, December 4 at 4 p.m.!
X-ALT-DESC;FMTTYPE=text/html:<div class="xdj266r x14z9mp xat24cr x1lziwak x1vvkbs" style="overflow-wrap: break-word\; margin-inline: 0px\; margin-bottom: 0px\; margin-top: 0px\; font-family: &quot\;Segoe UI Historic&quot\;\, &quot\;Segoe UI&quot\;\, Helvetica\, Arial\, sans-serif\; color: rgb(8\, 8\, 9)\; font-size: 15px\;">Marvin&#39\;s Room is celebrating their Grand Opening on Thursday\, December 4&nbsp\;at 4&nbsp\;p.m.!&nbsp\;</div>\n\n<div class="x14z9mp xat24cr x1lziwak x1vvkbs xtlvy1s" style="overflow-wrap: break-word\; margin-top: 0.5em\; margin-inline: 0px\; margin-bottom: 0px\; font-family: &quot\;Segoe UI Historic&quot\;\, &quot\;Segoe UI&quot\;\, Helvetica\, Arial\, sans-serif\; color: rgb(8\, 8\, 9)\; font-size: 15px\;">&nbsp\;</div>\n<br />\n&nbsp\;<br />\n&nbsp\;
LOCATION:1635 River Valley Cir. S. STE 845 Lancaster
UID:e.3121.1263
SEQUENCE:3
DTSTAMP:20260424T064836Z
URL:https://business.lancoc.org/events/details/marvin-s-room-grand-opening-ribbon-cutting-1263
END:VEVENT

END:VCALENDAR
