BEGIN:VCALENDAR
VERSION:2.0
PRODID:-//ChamberMaster//Event Calendar 2.0//EN
METHOD:PUBLISH
X-PUBLISHED-TTL:P3D
REFRESH-INTERVAL:P3D
CALSCALE:GREGORIAN
BEGIN:VEVENT
DTSTART:20200314T140000Z
DTEND:20200314T160000Z
X-MICROSOFT-CDO-ALLDAYEVENT:FALSE
SUMMARY:Marble Training at Ohio Glass Museum
DESCRIPTION:Our first marble training session begins this Saturday\, March 14\, 2020 at 10:00 a.m. All boys and girls 7 to 10 years old will be trained to learn or improve their skills in the game of Ringer. To be eligible to play in local tournament on May 16\, 2020\, the player must attend 3 sessions. More info available at the session.
X-ALT-DESC;FMTTYPE=text/html:Our first marble training session begins this Saturday\, March 14\, 2020 at 10:00 a.m. All boys and girls 7 to 10 years old will be trained to learn or improve their skills in the game of Ringer. To be eligible to play in local tournament on May 16\, 2020\, the player must attend 3 sessions. More info available at the session.
LOCATION:124 W. Main Street - Lower Level Lancaster\, OH 43130
UID:e.3121.439
SEQUENCE:3
DTSTAMP:20260423T190445Z
URL:https://business.lancoc.org/events/details/marble-training-at-ohio-glass-museum-439
END:VEVENT

END:VCALENDAR
