BEGIN:VCALENDAR
VERSION:2.0
PRODID:-//ChamberMaster//Event Calendar 2.0//EN
METHOD:PUBLISH
X-PUBLISHED-TTL:P3D
REFRESH-INTERVAL:P3D
CALSCALE:GREGORIAN
BEGIN:VEVENT
DTSTART:20191026T180000Z
DTEND:20191026T200000Z
X-MICROSOFT-CDO-ALLDAYEVENT:FALSE
SUMMARY:Lights On- Trick or Treating inside A True American Haunt-Birth of a Nightmare
DESCRIPTION:Trick or Treating inside "A True American Haunt" where guests will be greeted at the "door" by various house residents who will answer the age old question..."Trick or Treat?". A great event for young or old to experience "A True American Haunt" in the safety of daylight! This will not be a "scary" event but a fun introduction to a haunted house! Face painting and vintage midway games will be part of the 2-hr fun!
X-ALT-DESC;FMTTYPE=text/html:Trick or Treating inside &quot\;A True American Haunt&quot\; where&nbsp\;guests will be greeted at the &quot\;door&quot\; by various house residents who will answer the age old question...&quot\;Trick or Treat?&quot\;. A great event for young or old to experience &quot\;A True American Haunt&quot\; in the safety of daylight! This will&nbsp\;not be a &quot\;scary&quot\; event but a fun introduction to a haunted house! Face painting and vintage midway games will be part of the 2-hr fun!<br />\n&nbsp\;
LOCATION:The Miller Building 1587 Granville Pike Lancaster\, Ohio 43130
UID:e.3121.375
SEQUENCE:3
DTSTAMP:20260424T064022Z
URL:https://business.lancoc.org/events/details/lights-on-trick-or-treating-inside-a-true-american-haunt-birth-of-a-nightmare-375
END:VEVENT

END:VCALENDAR
