BEGIN:VCALENDAR
VERSION:2.0
PRODID:-//ChamberMaster//Event Calendar 2.0//EN
METHOD:PUBLISH
X-PUBLISHED-TTL:P3D
REFRESH-INTERVAL:P3D
CALSCALE:GREGORIAN
BEGIN:VEVENT
DTSTART:20190801T230000Z
DTEND:20190802T013000Z
X-MICROSOFT-CDO-ALLDAYEVENT:FALSE
SUMMARY:LEGALLY BLONDE The Musical
DESCRIPTION:Ohio University Lancaster Theatre presents "LEGALLY BLONDE The Musical." "A fabulously fun award-winning musical based on the adored movie\, "LEGALLY BLONDE The Musical\," follows the transformation of Elle Woods as she tackles stereotypes and scandal in pursuit of her dreams. Action-packed and exploding with memorable songs and dynamic dances - this musical is so much fun\, it should be illegal!"
X-ALT-DESC;FMTTYPE=text/html:Ohio University Lancaster Theatre presents &quot\;LEGALLY BLONDE The Musical.&quot\; &quot\;A fabulously fun award-winning musical based on the adored movie\, &ldquo\;LEGALLY BLONDE The Musical\,&rdquo\; follows the transformation of Elle Woods as she tackles stereotypes and scandal in pursuit of her dreams. Action-packed and exploding with memorable songs and dynamic dances - this musical is so much fun\, it should be illegal!&quot\;
LOCATION:Ohio University Lancaster\, Wagner Theatre 1570 Granville Pike Lancaster\, Ohio
UID:e.3121.317
SEQUENCE:3
DTSTAMP:20260424T094939Z
URL:https://business.lancoc.org/events/details/legally-blonde-the-musical-317
END:VEVENT

END:VCALENDAR
