BEGIN:VCALENDAR
VERSION:2.0
PRODID:-//ChamberMaster//Event Calendar 2.0//EN
METHOD:PUBLISH
X-PUBLISHED-TTL:P3D
REFRESH-INTERVAL:P3D
CALSCALE:GREGORIAN
BEGIN:VEVENT
DTSTART:20211020T230000Z
DTEND:20211021T010000Z
X-MICROSOFT-CDO-ALLDAYEVENT:FALSE
SUMMARY:Lancaster Playhouse\, Playtime
DESCRIPTION:Playtime with The Lancaster Playhouse\n\n \n It is time to rebuild and re-charge! Need a new creative outlet? Have you always regretted not trying out for a play? Do you have graphic design or advertising skills that you'd like to dust off and put to good use? Or are you just curious about all the moving parts that come together to create live theatre and want to be a part of the adventure? Join us for one\, two\, or all three evenings of Playtime with The Lancaster Playhouse. Come prepared to share\, discover\, and explore all the available opportunities both onstage and off. Bring a friend! All experience levels are welcome. We look forward to seeing you! \n\n\n\n Wednesdays any time between 7PM and 9PM\n\n\n\nOctober 20th\, November 3rd\, November 17th\n\nMaria's Mexican Restaurant\n\n129 E. Main St. Lancaster\, OH \n\n\n\nRSVP here to let us know who's coming.\n\nNot available?  \n\nJust send us an email at info@thelancasterplayhouse.org
X-ALT-DESC;FMTTYPE=text/html:<div style="text-align: center\;"><strong><em><span style="border:none windowtext 1.0pt\;padding:0in\;"><span style="color:#222222\;"><span style="font-family:arial\,sans-serif\;"><span style="font-size:13.5pt\;">Play</span></span></span></span></em></strong><strong><span style="border:none windowtext 1.0pt\;padding:0in\;"><span style="color:#222222\;"><span style="font-family:arial\,sans-serif\;"><span style="font-size:13.5pt\;">time with The Lancaster Playhouse</span></span></span></span></strong><br />\n&nbsp\;</div>\n&nbsp\;<span style="text-align:justify\;"><span style="font-size:11.5pt\;"><span style="font-family:arial\,sans-serif\;"><span style="color:#222222\;">It is time to rebuild and re-charge! Need a new creative outlet? Have you always regretted not trying out for a play? Do you have graphic design or advertising skills that you&rsquo\;d like to dust off and put to good use? Or are you just curious about all the moving parts that come together to create live theatre and want to be a part of the adventure? Join us for one\, two\, or all three evenings of&nbsp\;</span></span></span></span><em style="color:rgb(34\, 34\, 34)\;font-family:Arial\, sans-serif\;font-size:11.5pt\;text-align:justify\;">Play</em><span style="text-align:justify\;"><span style="font-size:11.5pt\;"><span style="font-family:arial\,sans-serif\;"><span style="color:#222222\;">time with The Lancaster Playhouse.&nbsp\;Come prepared to share\, discover\, and explore all the available opportunities both onstage and off. Bring a friend!&nbsp\;All experience levels are welcome. We look forward to seeing you!&nbsp\;</span></span></span></span><br />\n<br />\n&nbsp\;<strong style="text-align:center\;"><span style="border:none windowtext 1.0pt\;padding:0in\;"><span style="color:#222222\;"><span style="font-family:arial\,sans-serif\;"><span style="font-size:11.5pt\;">Wednesdays any time between 7PM and 9PM</span></span></span></span></strong><br />\n<br />\n<strong><span style="border:none windowtext 1.0pt\;padding:0in\;"><span style="color:#222222\;"><span style="font-family:arial\,sans-serif\;"><span style="font-size:11.5pt\;">October 20th\, November 3rd\,&nbsp\;November 17th</span></span></span></span></strong><br />\n<strong><span style="border:none windowtext 1.0pt\;padding:0in\;"><span style="color:#222222\;"><span style="font-family:arial\,sans-serif\;"><span style="font-size:11.5pt\;">Maria&rsquo\;s Mexican Restaurant</span></span></span></span></strong><br />\n<strong><span style="border:none windowtext 1.0pt\;padding:0in\;"><span style="color:#222222\;"><span style="font-family:arial\,sans-serif\;"><span style="font-size:11.5pt\;">129 E. Main St. Lancaster\, OH</span></span></span></span></strong>&nbsp\;<br />\n<br />\n<strong><span style="border:none windowtext 1.0pt\;padding:0in\;"><span style="color:#1155CC\;"><span style="font-family:arial\,sans-serif\;"><span style="font-size:11.5pt\;"><a href="https://r20.rs6.net/tn.jsp?f=001xG0xYUWbruBm8h2WCeAyIiJKq0iKR0NoIBIdAekK6V4fJJ_eHgF5EVICKX_c3xRKz3qIEoUqK_ugBsiKU3gTdink3jyG-z1bKLssfCoXn9xTRoQPpK_EWnGu7ahvdXYzj-lqPtZeLTZSzI7Z3tgsrJSZMoXyH-SJp5MRZ9p8EjDbexQn8j-CPfarROWJj9QT3ULO3HjpYXBisXA_t-BL5gr__bjli85E-T2dEJF2B7gGZmrxYyF0NU31jzWoSwXq&amp\;c=pfzgPWApD7fROyvf1ymJm4Xny7YIyfC7vXAiJN9nME0PqpAwula2nA==&amp\;ch=Sfl3mZL_bWExH0Lv9yWklHK91eyfPF-auvRwd5aST0tgpC_XY8t2xA==" target="_blank"><span style="text-decoration-line:none\;"><span style="color:#1155cc\;">RSVP here</span></span></a></span></span></span></span></strong><span style="border:none windowtext 1.0pt\;padding:0in\;"><span style="color:#222222\;"><span style="font-family:arial\,sans-serif\;"><span style="font-size:11.5pt\;">&nbsp\;to let us know who&rsquo\;s coming.</span></span></span></span><br />\n<span style="border:none windowtext 1.0pt\;padding:0in\;"><span style="color:#222222\;"><span style="font-family:arial\,sans-serif\;"><span style="font-size:11.5pt\;">Not available?&nbsp\;&nbsp\;</span></span></span></span><br />\n<span style="border:none windowtext 1.0pt\;padding:0in\;"><span style="color:#222222\;"><span style="font-family:arial\,sans-serif\;"><span style="font-size:11.5pt\;">Just send us an email at&nbsp\;</span></span></span></span><span style="border:none windowtext 1.0pt\;padding:0in\;"><span style="color:#1155CC\;"><span style="font-family:arial\,sans-serif\;"><span style="font-size:11.5pt\;"><a href="mailto:info@thelancasterplayhouse.org" target="_blank"><span style="text-decoration-line:none\;"><span style="color:#1155cc\;">info@thelancasterplayhouse.org</span></span></a></span></span></span></span>
LOCATION:Maria's Mexican Restaurant 129 E. Main St. Lancaster\, OH
UID:e.3121.722
SEQUENCE:3
DTSTAMP:20260420T072446Z
URL:https://business.lancoc.org/events/details/lancaster-playhouse-playtime-722
END:VEVENT

END:VCALENDAR
