BEGIN:VCALENDAR
VERSION:2.0
PRODID:-//ChamberMaster//Event Calendar 2.0//EN
METHOD:PUBLISH
X-PUBLISHED-TTL:P3D
REFRESH-INTERVAL:P3D
CALSCALE:GREGORIAN
BEGIN:VEVENT
DTSTART:20210808T230000Z
DTEND:20210810T010000Z
X-MICROSOFT-CDO-ALLDAYEVENT:FALSE
SUMMARY:Lancaster Playhouse Auditions for The Art of Dining
DESCRIPTION:The Lancaster Playhouse will be serving up The Art of Dining by Tina Howe\, a comic\, gastronomic adventure about appetites (food and otherwise) that is guaranteed to tickle your funny bone as well as your taste buds. Set in a chic suburban restaurant\, The Art of Dining brings together a zany assortment of characters\, whose passion about food reflects their attitudes toward life and each other.\n\n\n\nWe need nine cast members for this smart\, delicious\, fast-paced comedy. The show will be presented October 15\, 16\, 22\, 23 & 24 on the stage in the event space at Maria's Mexican Restaurant at 129 E. Main St. in Lancaster. Casting is flexible.\n\n\n\nComplete details and a link to audition signups are at TheLancasterPlayhouse.org.\n\nQuestions? Contact the director at PJ.Aubrey@thelancasterplayhouse.org.
X-ALT-DESC;FMTTYPE=text/html:The Lancaster Playhouse will be serving up The Art of Dining by Tina Howe\, a comic\, gastronomic adventure about appetites (food and otherwise) that is guaranteed to tickle your funny bone as well as your taste buds. Set in a chic suburban restaurant\, The Art of Dining brings together a zany assortment of characters\, whose passion about food reflects their attitudes toward life and each other.<br />\n<br />\nWe need nine cast members for this smart\, delicious\, fast-paced comedy. The show will be presented October 15\, 16\, 22\, 23 &amp\; 24 on the stage in the event space at Maria&#39\;s Mexican Restaurant at 129 E. Main St. in Lancaster. Casting is flexible.<br />\n<br />\nComplete details and a link to audition signups are at <a href="http://TheLancasterPlayhouse.org">TheLancasterPlayhouse.org</a>.<br />\nQuestions? Contact the director at <a href="mailto:PJ.Aubrey@thelancasterplayhouse.org">PJ.Aubrey@thelancasterplayhouse.org</a>.
LOCATION:The Records Center 138 W. Chestnut St. Lancaster\, OH
UID:e.3121.638
SEQUENCE:3
DTSTAMP:20260422T091836Z
URL:https://business.lancoc.org/events/details/lancaster-playhouse-auditions-for-the-art-of-dining-638
END:VEVENT

END:VCALENDAR
