BEGIN:VCALENDAR
VERSION:2.0
PRODID:-//ChamberMaster//Event Calendar 2.0//EN
METHOD:PUBLISH
X-PUBLISHED-TTL:P3D
REFRESH-INTERVAL:P3D
CALSCALE:GREGORIAN
BEGIN:VEVENT
DTSTART:20210513T230000Z
DTEND:20210513T230000Z
X-MICROSOFT-CDO-ALLDAYEVENT:FALSE
SUMMARY:Lancaster Playhouse\, Auditions for Art Walk Entertainment
DESCRIPTION:We are so excited to share that our friends destinationdowntownlancaster and lancasterfestival have invited us to provide entertainment for *the* Lancaster ArtWalk on Friday\, 7/23.\n\n \n\nWHAT WE NEED: We're looking for half a dozen actors   everybody is welcome!   To audition on Thursday\, 5/13 at 7:00pm and Sunday\, 5/16 at 3:00pm at The Records Center (located @ 138 W. Chestnut in Lancaster\, OH). Please prepare a one to two minute "talent"   unusual\, funny or genuine!   To get the fun started. Make sure you're available for two performances the Friday evening of ArtWalk (7/23) and for a handful of rehearsals.\n\n \n\nWHERE DO I SIGN UP? If you plan to attend or aren't able to OR if you have questions\, contact our psychedelic Artistic Director Marcia Jeffrey at Marcia.Jeffrey@thelancasterplayhouse.org.
X-ALT-DESC;FMTTYPE=text/html:<span style="color:#050505\;"><span style="font-family:segoe ui historic\,sans-serif\;"><span style="font-size:11.5pt\;">We are so excited to share that our friends destinationdowntownlancaster and lancasterfestival have invited us to provide entertainment for *the* Lancaster ArtWalk on Friday\, 7/23.</span></span></span><br />\n&nbsp\;<br />\n<strong><span style="color:#050505\;"><span style="font-family:segoe ui historic\,sans-serif\;"><span style="font-size:11.5pt\;">WHAT WE NEED:</span></span></span></strong><span style="color:#050505\;"><span style="font-family:segoe ui historic\,sans-serif\;"><span style="font-size:11.5pt\;"> We&rsquo\;re looking for half a dozen actors &mdash\; everybody is welcome! &mdash\; To audition on Thursday\, 5/13 at 7:00pm and Sunday\, 5/16 at 3:00pm at The Records Center (located @ <span style="border:none windowtext 1.0pt\;padding:0in\;">138 W. Chestnut in Lancaster\, OH</span>). Please prepare a one to two minute &ldquo\;talent&rdquo\; &mdash\; unusual\, funny or genuine! &mdash\; To get the fun started. Make sure you&rsquo\;re available for two performances the Friday evening of ArtWalk (7/23) and for a handful of rehearsals.</span></span></span><br />\n&nbsp\;<br />\n<strong><span style="color:#050505\;"><span style="font-family:segoe ui historic\,sans-serif\;"><span style="font-size:11.5pt\;">WHERE DO I SIGN UP?</span></span></span></strong><span style="color:#050505\;"><span style="font-family:segoe ui historic\,sans-serif\;"><span style="font-size:11.5pt\;"> If you plan to attend or aren&rsquo\;t able to OR if you have questions\, contact our psychedelic Artistic Director Marcia Jeffrey at </span></span></span><u><span style="border:none windowtext 1.0pt\;padding:0in\;"><span style="color:blue\;"><span style="font-family:segoe ui historic\,sans-serif\;"><span style="font-size:11.5pt\;"><a href="mailto:Marcia.Jeffrey@thelancasterplayhouse.org" target="_blank"><span style="color:blue\;">Marcia.Jeffrey@thelancasterplayhouse.org</span></a></span></span></span></span></u><span style="color:#050505\;"><span style="font-family:segoe ui historic\,sans-serif\;"><span style="font-size:11.5pt\;">.</span></span></span>
LOCATION:The Records Center 138 W. Chestnut in Lancaster\, OH
UID:e.3121.578
SEQUENCE:3
DTSTAMP:20260422T163527Z
URL:https://business.lancoc.org/events/details/lancaster-playhouse-auditions-for-art-walk-entertainment-578
END:VEVENT

END:VCALENDAR
