BEGIN:VCALENDAR
VERSION:2.0
PRODID:-//ChamberMaster//Event Calendar 2.0//EN
METHOD:PUBLISH
X-PUBLISHED-TTL:P3D
REFRESH-INTERVAL:P3D
CALSCALE:GREGORIAN
BEGIN:VEVENT
DTSTART:20210516T180000Z
DTEND:20210516T180000Z
X-MICROSOFT-CDO-ALLDAYEVENT:FALSE
SUMMARY:Lancaster Playhouse Audition for Spoken Word (For Students 5th & Up)
DESCRIPTION:AUDITIONS FOR SPOKEN WORD (STUDENTS 5TH GRADE AND UP)\n\nCALLING ALL STUDENTS ENTERING 5th GRADE AND OLDER\n\n \n\nWe want you to perform original or published Spoken Word pieces as part of our Lancaster ArtWalk entertainment on Friday\, 7/23.\n\n \n\nINTERESTED? Please bring a prepared selection to auditions on Sunday\, 5/16 at 2:00pm at The Records Center @ 138 West Chestnut Street here in Lancaster. The piece should be 1-3 minutes in length and does NOT need to be memorized!\n\n \n\nQUESTIONS? INTERESTED BUT CAN'T ATTEND? Contact our totally awesome Artistic Director\, Marcia Jeffrey\, at Marcia.Jeffrey@thelancasterplayhouse.org!
X-ALT-DESC;FMTTYPE=text/html:<strong><span style="color:#050505\;"><span style="font-family:segoe ui historic\,sans-serif\;"><span style="font-size:11.5pt\;">AUDITIONS FOR SPOKEN WORD (STUDENTS 5TH GRADE AND UP)</span></span></span></strong><br />\n<span style="color:#050505\;"><span style="font-family:segoe ui historic\,sans-serif\;"><span style="font-size:11.5pt\;">CALLING ALL STUDENTS ENTERING 5th GRADE AND OLDER</span></span></span><br />\n&nbsp\;<br />\n<span style="color:#050505\;"><span style="font-family:segoe ui historic\,sans-serif\;"><span style="font-size:11.5pt\;">We want you to perform original or published Spoken Word pieces as part of our Lancaster ArtWalk entertainment on Friday\, 7/23.</span></span></span><br />\n&nbsp\;<br />\n<strong><span style="color:#050505\;"><span style="font-family:segoe ui historic\,sans-serif\;"><span style="font-size:11.5pt\;">INTERESTED?</span></span></span></strong><span style="color:#050505\;"><span style="font-family:segoe ui historic\,sans-serif\;"><span style="font-size:11.5pt\;"> Please bring a prepared selection to auditions on Sunday\, 5/16 at 2:00pm at The Records Center @ 138 West Chestnut Street here in Lancaster. The piece should be 1-3 minutes in length and does NOT need to be memorized!</span></span></span><br />\n&nbsp\;<br />\n<strong><span style="color:#050505\;"><span style="font-family:segoe ui historic\,sans-serif\;"><span style="font-size:11.5pt\;">QUESTIONS? INTERESTED BUT CAN&rsquo\;T ATTEND?</span></span></span></strong><span style="color:#050505\;"><span style="font-family:segoe ui historic\,sans-serif\;"><span style="font-size:11.5pt\;"> Contact our totally awesome Artistic Director\, Marcia Jeffrey\, at </span></span></span><u><span style="border:none windowtext 1.0pt\;padding:0in\;"><span style="color:blue\;"><span style="font-family:segoe ui historic\,sans-serif\;"><span style="font-size:11.5pt\;"><a href="mailto:Marcia.Jeffrey@thelancasterplayhouse.org" target="_blank"><span style="color:blue\;">Marcia.Jeffrey@thelancasterplayhouse.org</span></a></span></span></span></span></u><span style="color:#050505\;"><span style="font-family:segoe ui historic\,sans-serif\;"><span style="font-size:11.5pt\;">!</span></span></span>
LOCATION:The Records Center 138 W. Chestnut St. Lancaster\, OH
UID:e.3121.580
SEQUENCE:3
DTSTAMP:20260422T163400Z
URL:https://business.lancoc.org/events/details/lancaster-playhouse-audition-for-spoken-word-for-students-5th-up-580
END:VEVENT

END:VCALENDAR
