BEGIN:VCALENDAR
VERSION:2.0
PRODID:-//ChamberMaster//Event Calendar 2.0//EN
METHOD:PUBLISH
X-PUBLISHED-TTL:P3D
REFRESH-INTERVAL:P3D
CALSCALE:GREGORIAN
BEGIN:VEVENT
DTSTART:20191123T150000Z
DTEND:20191123T170000Z
X-MICROSOFT-CDO-ALLDAYEVENT:FALSE
SUMMARY:Lancaster Holiday Festival Parade
DESCRIPTION:Lancaster Holiday Festival Parade\n\n"The Magic of a Hometown Holiday"\n\n\n\nFor parade entry forms click here
X-ALT-DESC;FMTTYPE=text/html:Lancaster Holiday Festival Parade<br />\n&quot\;The Magic of a Hometown Holiday&quot\;<br />\n<br />\nFor parade entry forms<a href="http://mariachandler2013.wixsite.com/lancasterparade/projects?fbclid=IwAR2pNx01uhQKecWdAni44VK0jOea1k5XC6VBgHZe3D0YYTbqLIfqI86f9w0"> click here</a>
LOCATION:Downtown Lancaster Parade starts on Columbus Street at the Fairfield County Fairgrounds\, down Columbus Street to Main Street down Main Street to Broad Street\, back into the fairgrounds.
UID:e.3121.364
SEQUENCE:3
DTSTAMP:20260424T043446Z
URL:https://business.lancoc.org/events/details/lancaster-holiday-festival-parade-364
END:VEVENT

END:VCALENDAR
