BEGIN:VCALENDAR
VERSION:2.0
PRODID:-//ChamberMaster//Event Calendar 2.0//EN
METHOD:PUBLISH
X-PUBLISHED-TTL:P3D
REFRESH-INTERVAL:P3D
CALSCALE:GREGORIAN
BEGIN:VEVENT
DTSTART:20220404T140000Z
DTEND:20220404T143000Z
X-MICROSOFT-CDO-ALLDAYEVENT:FALSE
SUMMARY:Lancaster Festival 2022 Headliner Annoucement
DESCRIPTION:The Lancaster Festival is excited to announce this year's headlining performers! Bring your family\, friends\, and co-workers to Zane Square Downtown on Monday\, April 4 at 10 a.m. for a fun announcement event!\n\nFor those unable to attend in-person\, The Lancaster Festival will broadcast the announcement live via Facebook and Instagram. \n\nAnd don't forget to mark your calendars for this year's Lancaster Festival July 21-30.
X-ALT-DESC;FMTTYPE=text/html:<p>The Lancaster Festival is excited to announce this year&#39\;s headlining performers! Bring your family\, friends\, and co-workers to Zane Square Downtown on Monday\, April 4 at 10&nbsp\;a.m. for a fun announcement event!</p>\n\n<p>For those unable to attend in-person\, The Lancaster Festival will broadcast the announcement live via Facebook and Instagram.&nbsp\;</p>\n\n<p>And don&#39\;t forget to mark your calendars for this year&#39\;s Lancaster Festival July 21-30.&nbsp\;</p>\n
LOCATION:Downtown Lancaster\, Zane Square Online: Lancaster Festival Facebook and Instagram
UID:e.3121.772
SEQUENCE:3
DTSTAMP:20260424T143624Z
URL:https://business.lancoc.org/events/details/lancaster-festival-2022-headliner-annoucement-772
END:VEVENT

END:VCALENDAR
