BEGIN:VCALENDAR
VERSION:2.0
PRODID:-//ChamberMaster//Event Calendar 2.0//EN
METHOD:PUBLISH
X-PUBLISHED-TTL:P3D
REFRESH-INTERVAL:P3D
CALSCALE:GREGORIAN
BEGIN:VEVENT
DTSTART:20210918T120000Z
DTEND:20210918T143000Z
X-MICROSOFT-CDO-ALLDAYEVENT:FALSE
SUMMARY:Lancaster-Fairfield Community Action Agency’s Recycling & Little Prevention\, Tire Recycling Event
DESCRIPTION:Fairfield County Tire Recycling Event\n\n- For Fairfield County Residents Only -\n\n$1.00 Per Tire\n\nPassenger & Light Truck Tires Off RIM Only\n\n10 Tires Per Vehicle Max\, First Come First Served
X-ALT-DESC;FMTTYPE=text/html:<div style="text-align: center\;"><span style="font-size:16px\;"><strong>Fairfield County Tire Recycling Event</strong><br />\n<em>- For Fairfield County Residents Only -</em><br />\n$1.00 Per Tire<br />\nPassenger &amp\; Light Truck Tires Off RIM Only<br />\n10 Tires Per Vehicle Max\, First Come First Served</span></div>\n
LOCATION:Lancaster Transfer Station 743 S. Ewing St. Lancaster\, OH 43130
UID:e.3121.684
SEQUENCE:3
DTSTAMP:20260420T075117Z
URL:https://business.lancoc.org/events/details/lancaster-fairfield-community-action-agency-s-recycling-little-prevention-tire-recycling-event-684
END:VEVENT

END:VCALENDAR
