BEGIN:VCALENDAR
VERSION:2.0
PRODID:-//ChamberMaster//Event Calendar 2.0//EN
METHOD:PUBLISH
X-PUBLISHED-TTL:P3D
REFRESH-INTERVAL:P3D
CALSCALE:GREGORIAN
BEGIN:VEVENT
DTSTART:20210629T160000Z
DTEND:20210629T160000Z
X-MICROSOFT-CDO-ALLDAYEVENT:FALSE
SUMMARY:Lancaster Fairfield Community Action Agency's Agency’s Recycling & Litter Prevention & CFLP Solid Waste Educators Zoom Meeting
DESCRIPTION:Recycle Right! Please Join  the Lancaster-Fairfield Community Action Agency's Recycling & Litter Prevention & CFLP Solid Waste Educators via Zoom for a presentation on ways to identify and dispose of waste. We hope to see you there!\n \n\nZoom link for the Meeting can be found HERE
X-ALT-DESC;FMTTYPE=text/html:<span style="font-family:calibri\,sans-serif\;"><span style="font-size:11.0pt\;">Recycle Right! Please Join&nbsp\; the&nbsp\;Lancaster-Fairfield Community Action Agency&rsquo\;s<strong> </strong>Recycling &amp\; Litter Prevention &amp\; CFLP Solid Waste Educators via Zoom for a presentation on ways to identify and dispose of waste. We hope to see you there!</span></span>\n<div>&nbsp\;</div>\n\n<div><span style="font-family:calibri\,sans-serif\;"><span style="font-size:11.0pt\;">Zoom link for the Meeting can be found <a href="https://zoom.us/j/94640809997?pwd=emlmcUgwVkFvejI5SlRRRWlhTmZYQT09">HERE</a></span></span></div>\n
LOCATION:Virtual Zoom Meeting Link HERE
UID:e.3121.615
SEQUENCE:3
DTSTAMP:20260422T130148Z
URL:https://business.lancoc.org/events/details/lancaster-fairfield-community-action-agency-s-agency-s-recycling-litter-prevention-cflp-solid-waste-educators-zoom-meeting-615
END:VEVENT

END:VCALENDAR
