BEGIN:VCALENDAR
VERSION:2.0
PRODID:-//ChamberMaster//Event Calendar 2.0//EN
METHOD:PUBLISH
X-PUBLISHED-TTL:P3D
REFRESH-INTERVAL:P3D
CALSCALE:GREGORIAN
BEGIN:VEVENT
DTSTART:20210821T233000Z
DTEND:20210822T030000Z
X-MICROSOFT-CDO-ALLDAYEVENT:FALSE
SUMMARY:Lancaster Camp Ground's Sunset Lua & Dive-In Movie
DESCRIPTION:The Lancaster Camp Ground is raising funds for improvements to the Maple Leaf. Join them for dinner\, swimming and a movie pool-side!
X-ALT-DESC;FMTTYPE=text/html:The Lancaster Camp Ground is raising funds for improvements to the Maple Leaf. Join them for dinner\, swimming and a movie pool-side!
LOCATION:2151 W. Fair Ave. Lancaster\, OH
UID:e.3121.640
SEQUENCE:3
DTSTAMP:20260422T091334Z
URL:https://business.lancoc.org/events/details/lancaster-camp-ground-s-sunset-lua-dive-in-movie-640
END:VEVENT

END:VCALENDAR
