BEGIN:VCALENDAR
VERSION:2.0
PRODID:-//ChamberMaster//Event Calendar 2.0//EN
METHOD:PUBLISH
X-PUBLISHED-TTL:P3D
REFRESH-INTERVAL:P3D
CALSCALE:GREGORIAN
BEGIN:VEVENT
DTSTART:20210911T213000Z
DTEND:20210911T213000Z
X-MICROSOFT-CDO-ALLDAYEVENT:FALSE
SUMMARY:Lancaster Camp Ground\, End of Summer Bash
DESCRIPTION:Join the Lancaster Campground at their End of Summer Bash\n\n\n	Free Movie & Games\, \n	\n		Movie begins at Sunset\n	\n	\n	Live Music by Cool Ethan\n	Dinner available from the Cafe for $10\n	\n		Chicken Fried Steak\n		Mashed Potatoes\n		Green Beans \n		Dessert & Drink
X-ALT-DESC;FMTTYPE=text/html:<div style="text-align: center\;"><strong>Join the Lancaster Campground at their End of Summer Bash</strong></div>\n\n<ul>\n	<li>Free Movie &amp\; Games\,&nbsp\;\n	<ul>\n		<li>Movie begins at Sunset</li>\n	</ul>\n	</li>\n	<li>Live Music by Cool Ethan</li>\n	<li>Dinner available from the Cafe for $10\n	<ul>\n		<li>Chicken Fried Steak</li>\n		<li>Mashed Potatoes</li>\n		<li>Green Beans&nbsp\;</li>\n		<li>Dessert &amp\; Drink</li>\n	</ul>\n	</li>\n</ul>\n
LOCATION:Lancaster Camp Ground 2151 W. Fair Ave Lancaster\, OH
UID:e.3121.674
SEQUENCE:3
DTSTAMP:20260420T073158Z
URL:https://business.lancoc.org/events/details/lancaster-camp-ground-end-of-summer-bash-674
END:VEVENT

END:VCALENDAR
