BEGIN:VCALENDAR
VERSION:2.0
PRODID:-//ChamberMaster//Event Calendar 2.0//EN
METHOD:PUBLISH
X-PUBLISHED-TTL:P3D
REFRESH-INTERVAL:P3D
CALSCALE:GREGORIAN
BEGIN:VEVENT
DTSTART:20211203T223000Z
DTEND:20211206T023000Z
X-MICROSOFT-CDO-ALLDAYEVENT:FALSE
SUMMARY:Lancaster Camp Ground\, Annual Christmas Walk
DESCRIPTION:Lancaster Camp Ground's Annual Christmas Walk invites you to take a step back in time as you tour the historical grounds\, buildings and homes\, some of which date back to the late 1800s.  These nights will be made extra festive with live music and Christmas sing-a-longs\, vendors selling their hand-made goods\, holiday sweets and warm beverages for sale\, hay rides\, and the chance to meet Saint Nicholas.  Additionally you'll have the option to participate in A Sweet Winter Night -- a dessert delight tasting party -- and a candlelight dinner.  We look forward to celebrating the Christmas season with you and yours!
X-ALT-DESC;FMTTYPE=text/html:<span style="color: rgb(32\, 31\, 30)\; font-family: &quot\;Segoe UI&quot\;\, &quot\;Segoe UI Web (West European)&quot\;\, &quot\;Segoe UI&quot\;\, -apple-system\, BlinkMacSystemFont\, Roboto\, &quot\;Helvetica Neue&quot\;\, sans-serif\; font-size: 15px\; background-color: rgb(255\, 255\, 255)\;">Lancaster Camp Ground&#39\;s Annual Christmas Walk invites you to take a step back in time as you tour the historical grounds\, buildings and homes\, some of which date back to the late 1800s.&nbsp\; These nights will be made extra festive with live music and Christmas sing-a-longs\, vendors selling their hand-made goods\, holiday sweets and warm beverages for sale\, hay rides\, and the chance to meet Saint Nicholas.&nbsp\; Additionally you&#39\;ll have the option to participate in A Sweet Winter Night -- a dessert delight tasting party -- and a candlelight dinner.&nbsp\; We look forward to celebrating the Christmas season with you and yours!</span>
LOCATION:Lancaster Camp Ground 2151 W. Fair Avenue Unit 100 Lancaster\, OH 43130
UID:e.3121.643
SEQUENCE:3
DTSTAMP:20260420T021935Z
URL:https://business.lancoc.org/events/details/lancaster-camp-ground-annual-christmas-walk-643
END:VEVENT

END:VCALENDAR
