BEGIN:VCALENDAR
VERSION:2.0
PRODID:-//ChamberMaster//Event Calendar 2.0//EN
METHOD:PUBLISH
X-PUBLISHED-TTL:P3D
REFRESH-INTERVAL:P3D
CALSCALE:GREGORIAN
BEGIN:VEVENT
DTSTART:20191013T160000Z
DTEND:20191013T190000Z
X-MICROSOFT-CDO-ALLDAYEVENT:FALSE
SUMMARY:Lancaster Business & Professional Women's Club\, 30th Annual Style Show & Luncheon
DESCRIPTION:Lancaster Business & Professional Women's Club\n\n30th Annual Style Show & Luncheon\n\nTheme: Masquerade Rendezvous-mask recommended\n\n\n\nFeatured events: \n\nFall fashions from local retailers including Christopher & Banks\, TJ Maxx\, LuLaRoe & Dot Dot Smile\n\n\n\nRaffle baskets\n\n50/50 tickets\n\nVendor tables\n\n\n\nall proceeds benefit scholarships for Fairfield County high school and mature students.
X-ALT-DESC;FMTTYPE=text/html:Lancaster Business &amp\; Professional Women&#39\;s Club<br />\n30th Annual Style Show &amp\; Luncheon<br />\nTheme: Masquerade Rendezvous-mask recommended<br />\n<br />\nFeatured events:&nbsp\;<br />\nFall fashions from local retailers including Christopher &amp\; Banks\, TJ Maxx\, LuLaRoe &amp\; Dot Dot Smile<br />\n<br />\nRaffle baskets<br />\n50/50 tickets<br />\nVendor tables<br />\n<br />\nall proceeds benefit scholarships for Fairfield County high school and mature students.<br />\n&nbsp\;
LOCATION:The Mill Event Center 431 S. Columbus Street Lancaster\, Ohio 43130
UID:e.3121.353
SEQUENCE:3
DTSTAMP:20260424T043752Z
URL:https://business.lancoc.org/events/details/lancaster-business-professional-women-s-club-30th-annual-style-show-luncheon-353
END:VEVENT

END:VCALENDAR
