BEGIN:VCALENDAR
VERSION:2.0
PRODID:-//ChamberMaster//Event Calendar 2.0//EN
METHOD:PUBLISH
X-PUBLISHED-TTL:P3D
REFRESH-INTERVAL:P3D
CALSCALE:GREGORIAN
BEGIN:VEVENT
DTSTART:20220217T213000Z
DTEND:20220217T220000Z
X-MICROSOFT-CDO-ALLDAYEVENT:FALSE
SUMMARY:Lancaster Axes Ribbon Cutting
DESCRIPTION:Come celebrate Downtown Lancaster's newest entertainment venue\, Lancaster Axes\, during their ribbon-cutting on Thursday\, Feb. 17! Free snacks and axe-throwing lessons will follow.
X-ALT-DESC;FMTTYPE=text/html:Come celebrate Downtown Lancaster&#39\;s newest entertainment venue\, Lancaster Axes\, during their ribbon-cutting on Thursday\, Feb. 17! Free snacks and axe-throwing lessons will follow.
LOCATION:107 N. Columbus Street\, Lancaster
UID:e.3121.760
SEQUENCE:3
DTSTAMP:20260419T221828Z
URL:https://business.lancoc.org/events/details/lancaster-axes-ribbon-cutting-760
END:VEVENT

END:VCALENDAR
