BEGIN:VCALENDAR
VERSION:2.0
PRODID:-//ChamberMaster//Event Calendar 2.0//EN
METHOD:PUBLISH
X-PUBLISHED-TTL:P3D
REFRESH-INTERVAL:P3D
CALSCALE:GREGORIAN
BEGIN:VEVENT
DTSTART:20260112T173000Z
DTEND:20260112T180000Z
X-MICROSOFT-CDO-ALLDAYEVENT:FALSE
SUMMARY:Kiwanis Club of Lancaster - K Kids Club Grand Opening Ribbon Cutting
DESCRIPTION:Kiwanis Club of Lancaster is celebrating their K Kids Club Grand Opening on Monday\, January 12 at 12:30 p.m.!
X-ALT-DESC;FMTTYPE=text/html:<div class="xdj266r x14z9mp xat24cr x1lziwak x1vvkbs" style="overflow-wrap: break-word\; margin-inline: 0px\; margin-bottom: 0px\; margin-top: 0px\; font-family: &quot\;Segoe UI Historic&quot\;\, &quot\;Segoe UI&quot\;\, Helvetica\, Arial\, sans-serif\; color: rgb(8\, 8\, 9)\; font-size: 15px\;">Kiwanis Club of Lancaster is celebrating their K Kids Club Grand Opening on Monday\, January 12&nbsp\;at 12:30&nbsp\;p.m.!</div>\n\n<div class="x14z9mp xat24cr x1lziwak x1vvkbs xtlvy1s" style="overflow-wrap: break-word\; margin-top: 0.5em\; margin-inline: 0px\; margin-bottom: 0px\; font-family: &quot\;Segoe UI Historic&quot\;\, &quot\;Segoe UI&quot\;\, Helvetica\, Arial\, sans-serif\; color: rgb(8\, 8\, 9)\; font-size: 15px\;">&nbsp\;</div>\n<br />\n&nbsp\;<br />\n&nbsp\;
LOCATION:Tallmadge Elementary 694 Talmadge Ave. Lancaster
UID:e.3121.1261
SEQUENCE:3
DTSTAMP:20260424T082628Z
URL:https://business.lancoc.org/events/details/kiwanis-club-of-lancaster-k-kids-club-grand-opening-ribbon-cutting-1261
END:VEVENT

END:VCALENDAR
