BEGIN:VCALENDAR
VERSION:2.0
PRODID:-//ChamberMaster//Event Calendar 2.0//EN
METHOD:PUBLISH
X-PUBLISHED-TTL:P3D
REFRESH-INTERVAL:P3D
CALSCALE:GREGORIAN
BEGIN:VEVENT
DTSTART:20200404T130000Z
DTEND:20200404T160000Z
X-MICROSOFT-CDO-ALLDAYEVENT:FALSE
SUMMARY:Ki'wanna go for a run?
DESCRIPTION:5k\,10k Run.Walk. Roll.\n\nKi'Wanna Go for a Run will start and end at the largest all abilities\, multi-generational playground in the State of Ohio\, Kiwanis Hunter Park. Proceeds benefit the Kiwanis Club of Lancaster's youth/community service programs serving children in Fairfield County.
X-ALT-DESC;FMTTYPE=text/html:5k\,10k Run.Walk. Roll.<br />\nKi&rsquo\;Wanna Go for a Run will start and end at the largest all abilities\, multi-generational playground in the State of Ohio\, Kiwanis Hunter Park. Proceeds benefit the Kiwanis Club of Lancaster&rsquo\;s youth/community service programs serving children in Fairfield County.
LOCATION:Kiwanis Club of Lancaster Hunter Park
UID:e.3121.418
SEQUENCE:3
DTSTAMP:20260423T140647Z
URL:https://business.lancoc.org/events/details/ki-wanna-go-for-a-run-418
END:VEVENT

END:VCALENDAR
