BEGIN:VCALENDAR
VERSION:2.0
PRODID:-//ChamberMaster//Event Calendar 2.0//EN
METHOD:PUBLISH
X-PUBLISHED-TTL:P3D
REFRESH-INTERVAL:P3D
CALSCALE:GREGORIAN
BEGIN:VEVENT
DTSTART;VALUE=DATE:20211120
DTEND;VALUE=DATE:20211121
TRANSP:TRANSPARENT
X-MICROSOFT-CDO-ALLDAYEVENT:TRUE
SUMMARY:Keller Market House\, Harvest Market
DESCRIPTION:Join the Keller Market House at a Harvest Market!\n\n\n\nStock up on foods for Thanksgiving and get a start on your holiday shopping - all with your favorite local vendors!\n\n\n\nThe Harvest Market will be held outdoors\, in front of the Keller Market House\, with local farmers\, artisans and food trucks. This is the Saturday before Thanksgiving\, and the same day as Lancaster's Holiday Parade.\n\n\n\nWill you already be in the neighborhood for the parade? Swing by afterwards. Want to miss the parade traffic? Wait until after noon to head downtown.\n\n\n\nEither way\, start your holiday season off right!
X-ALT-DESC;FMTTYPE=text/html:<span style="font-size:18px\;"><strong>Join the Keller Market House at a Harvest Market!</strong></span><br />\n<br />\n<span style="font-size:16px\;">Stock up on foods for Thanksgiving and get a start on your holiday shopping - all with your favorite local vendors!<br />\n<br />\nThe Harvest Market will be held outdoors\, in front of the Keller Market House\, with local farmers\, artisans and food trucks. This is the Saturday before Thanksgiving\, and the same day as Lancaster&#39\;s Holiday Parade.<br />\n<br />\nWill you already be in the neighborhood for the parade? Swing by afterwards. Want to miss the parade traffic? Wait until after noon to head downtown.<br />\n<br />\nEither way\, start your holiday season off right!</span>
LOCATION:Keller Market House 134 S. Columbus St. Lancaster\, OH
UID:e.3121.720
SEQUENCE:3
DTSTAMP:20260420T060009Z
URL:https://business.lancoc.org/events/details/keller-market-house-harvest-market-720
END:VEVENT

END:VCALENDAR
