BEGIN:VCALENDAR
VERSION:2.0
PRODID:-//ChamberMaster//Event Calendar 2.0//EN
METHOD:PUBLISH
X-PUBLISHED-TTL:P3D
REFRESH-INTERVAL:P3D
CALSCALE:GREGORIAN
BEGIN:VEVENT
DTSTART:20210615T160000Z
DTEND:20210615T170000Z
X-MICROSOFT-CDO-ALLDAYEVENT:FALSE
SUMMARY:June 2021 Small Business University Webinar: Retirement Plan Options for Small Business
DESCRIPTION:Today's business owners have even more opportunities to save for retirement than individuals\, but it can be challenging to know which options are the best fit for your unique needs. Some common questions are: \n\n1. Does opening a retirement plan make sense for your business?\n\n2. What are the tax advantages?\n\n3. Can a retirement plan attract and retain employees? \n\n\n\nMake plans to join us and the Lancaster Trust & Investment department from Park National Bank on June 15th to learn the options to plan for your retirement!
X-ALT-DESC;FMTTYPE=text/html:<span style="font-size: 18px\;"><b>Today&#39\;s business owners have even more opportunities to save for retirement than individuals\, but it can be challenging to know which options are the best fit for your unique needs. Some common questions are:&nbsp\;<br />\n<span style="font-size:14px\;">1. Does opening a retirement plan make sense for your business?</span><br />\n<span style="font-size:12px\;"><span style="font-size:14px\;">2. What are the tax advantages?<br />\n3. Can a retirement plan attract and retain employees?&nbsp\;</span><br />\n<br />\n<span style="font-size:18px\;">Make plans to join us and the Lancaster Trust &amp\; Investment department from Park National Bank on June 15th to learn the options to plan for your retirement!</span></span></b></span>
LOCATION:Virtual via Zoom The zoom link is included in your registration confirmation email
UID:e.3121.589
SEQUENCE:3
DTSTAMP:20260422T125825Z
URL:https://business.lancoc.org/events/details/june-2021-small-business-university-webinar-retirement-plan-options-for-small-business-589
END:VEVENT

END:VCALENDAR
