BEGIN:VCALENDAR
VERSION:2.0
PRODID:-//ChamberMaster//Event Calendar 2.0//EN
METHOD:PUBLISH
X-PUBLISHED-TTL:P3D
REFRESH-INTERVAL:P3D
CALSCALE:GREGORIAN
BEGIN:VEVENT
DTSTART:20220218T210000Z
DTEND:20220218T213000Z
X-MICROSOFT-CDO-ALLDAYEVENT:FALSE
SUMMARY:Hometown Integrated Medicine Ribbon Cutting and Open House
DESCRIPTION:Ingham Family Wellness Center is now Hometown Integrated Medicine!\n\n\n\nJoin us for a ribbon-cutting and open house at their new office on S. Columbus Street in Lancaster\, starting at 4 p.m.
X-ALT-DESC;FMTTYPE=text/html:Ingham Family Wellness Center is now Hometown Integrated Medicine!<br />\n<br />\nJoin us for a ribbon-cutting and open house at their new office on S. Columbus Street in Lancaster\, starting at 4 p.m.
LOCATION:321 S. Columbus St.\, Suite A\, Lancaster\, OH
UID:e.3121.759
SEQUENCE:3
DTSTAMP:20260419T222617Z
URL:https://business.lancoc.org/events/details/hometown-integrated-medicine-ribbon-cutting-and-open-house-759
END:VEVENT

END:VCALENDAR
