BEGIN:VCALENDAR
VERSION:2.0
PRODID:-//ChamberMaster//Event Calendar 2.0//EN
METHOD:PUBLISH
X-PUBLISHED-TTL:P3D
REFRESH-INTERVAL:P3D
CALSCALE:GREGORIAN
BEGIN:VEVENT
DTSTART:20191214T150000Z
DTEND:20191214T170000Z
X-MICROSOFT-CDO-ALLDAYEVENT:FALSE
SUMMARY:Holiday Printing
DESCRIPTION:Using styrofoam\, students will create prints that can be used for gifts and holiday decorations.\n\nAges 5-8\n\nLisa Schorr and Dallas Rienschield\, instructors
X-ALT-DESC;FMTTYPE=text/html:&nbsp\;Using styrofoam\, students will create prints that can be used for gifts and holiday decorations.<br />\n<span style="color: rgb(51\, 51\, 51)\; font-family: sans-serif\, Arial\, Verdana\, &quot\;Trebuchet MS&quot\;\; font-size: 13px\; background-color: rgb(255\, 255\, 255)\;">Ages 5-8<br />\nLisa Schorr and Dallas Rienschield\, instructors</span>
LOCATION:Wendel Center for Art Education 145 E. Main St Lancaster\, Ohio 43130
UID:e.3121.341
SEQUENCE:3
DTSTAMP:20260424T004021Z
URL:https://business.lancoc.org/events/details/holiday-printing-341
END:VEVENT

END:VCALENDAR
