BEGIN:VCALENDAR
VERSION:2.0
PRODID:-//ChamberMaster//Event Calendar 2.0//EN
METHOD:PUBLISH
X-PUBLISHED-TTL:P3D
REFRESH-INTERVAL:P3D
CALSCALE:GREGORIAN
BEGIN:VEVENT
DTSTART:20201206T190000Z
DTEND:20201206T200000Z
X-MICROSOFT-CDO-ALLDAYEVENT:FALSE
SUMMARY:Historian Talk: Russia in War and Revolution
DESCRIPTION:Join Professor Nicholas B. Breyfogle\, Ph.D\, for a look at the end of tsarist Russia\, from the savage destruction of the First World War\, to the 1917 Revolutions\, the Civil War\, and the establishment of Bolshevik power and the world's first communist society.
X-ALT-DESC;FMTTYPE=text/html:Join Professor Nicholas B. Breyfogle\, Ph.D\, for a look at the end of tsarist Russia\, from the savage destruction of the First World War\, to the 1917 Revolutions\, the Civil War\, and the establishment of Bolshevik power and the world&#39\;s first communist society.
LOCATION:First United Methodist Church 163 E Wheeling St Lancaster\, Ohio 43130
UID:e.3121.476
SEQUENCE:3
DTSTAMP:20260423T040030Z
URL:https://business.lancoc.org/events/details/historian-talk-russia-in-war-and-revolution-476
END:VEVENT

END:VCALENDAR
